BEGIN:VCALENDAR
VERSION:2.0
PRODID:-//Tukios.com/
BEGIN:VEVENT
UID:7f21c616-3cb7-4c51-a9af-735dc4114b7d@www.riewertsmemorialhome.com
DTSTAMP:20260422T202421Z
DTSTART:20260426T190000Z
DTEND:20260426T230000Z
SUMMARY:Visitation
DESCRIPTION:
URL:https://www.riewertsmemorialhome.com/obituaries/elaine-doyle
LOCATION: 187 S Washington Ave  Bergenfield NJ 07621
GEO:40.9215789;-73.9965886
END:VEVENT
END:VCALENDAR