BEGIN:VCALENDAR
VERSION:2.0
PRODID:-//Tukios.com/
BEGIN:VEVENT
UID:462965b6-e033-4cb5-b699-f2965dac31d6@www.riewertsmemorialhome.com
DTSTAMP:20260422T201609Z
DTSTART:20260427T150000Z
DTEND:20260427T160000Z
SUMMARY:Mass
DESCRIPTION:
URL:https://www.riewertsmemorialhome.com/obituaries/elaine-doyle
LOCATION: 300 Elm St.  Oradell NJ 07649
GEO:40.9507416;-74.024458
END:VEVENT
END:VCALENDAR