BEGIN:VCALENDAR
VERSION:2.0
PRODID:-//Tukios.com/
BEGIN:VEVENT
UID:708d6753-3a95-4eec-8d88-37b0f3cf1e66@www.riewertsmemorialhome.com
DTSTAMP:20260420T214010Z
DTSTART:20260427T140000Z
DTEND:20260427T150000Z
SUMMARY:Visitation
DESCRIPTION:
URL:https://www.riewertsmemorialhome.com/obituaries/jean-nash
LOCATION: 187 S Washington Ave  Bergenfield NJ 07621
GEO:40.9215789;-73.9965886
END:VEVENT
END:VCALENDAR