BEGIN:VCALENDAR
VERSION:2.0
PRODID:-//Tukios.com/
BEGIN:VEVENT
UID:b0347fa7-a4d7-4d75-b5c1-1dca19791fd5@www.riewertsmemorialhome.com
DTSTAMP:20260420T213621Z
DTSTART:20260427T150000Z
DTEND:20260427T160000Z
SUMMARY:Funeral Service
DESCRIPTION:
URL:https://www.riewertsmemorialhome.com/obituaries/jean-nash
LOCATION: 187 S Washington Ave  Bergenfield NJ 07621
GEO:40.9215789;-73.9965886
END:VEVENT
END:VCALENDAR