BEGIN:VCALENDAR
VERSION:2.0
PRODID:-//Tukios.com/
BEGIN:VEVENT
UID:ffb5cfdd-0ba9-4878-8c2a-93489f502eb0@www.riewertsmemorialhome.com
DTSTAMP:20260420T213129Z
DTSTART:20260427T154500Z
DTEND:20260427T164500Z
SUMMARY:Interment
DESCRIPTION:
URL:https://www.riewertsmemorialhome.com/obituaries/jean-nash
LOCATION: 234 Paramus Rd  Paramus NJ 07652
GEO:40.940955;-74.090616
END:VEVENT
END:VCALENDAR